BEGIN:VCALENDAR
VERSION:2.0
PRODID:-//King Street Church - ECPv6.15.18//NONSGML v1.0//EN
CALSCALE:GREGORIAN
METHOD:PUBLISH
X-WR-CALNAME:King Street Church
X-ORIGINAL-URL:https://kingstreetchurch.com
X-WR-CALDESC:Events for King Street Church
REFRESH-INTERVAL;VALUE=DURATION:PT1H
X-Robots-Tag:noindex
X-PUBLISHED-TTL:PT1H
BEGIN:VTIMEZONE
TZID:America/New_York
BEGIN:DAYLIGHT
TZOFFSETFROM:-0500
TZOFFSETTO:-0400
TZNAME:EDT
DTSTART:20250309T070000
END:DAYLIGHT
BEGIN:STANDARD
TZOFFSETFROM:-0400
TZOFFSETTO:-0500
TZNAME:EST
DTSTART:20251102T060000
END:STANDARD
BEGIN:DAYLIGHT
TZOFFSETFROM:-0500
TZOFFSETTO:-0400
TZNAME:EDT
DTSTART:20260308T070000
END:DAYLIGHT
BEGIN:STANDARD
TZOFFSETFROM:-0400
TZOFFSETTO:-0500
TZNAME:EST
DTSTART:20261101T060000
END:STANDARD
BEGIN:DAYLIGHT
TZOFFSETFROM:-0500
TZOFFSETTO:-0400
TZNAME:EDT
DTSTART:20270314T070000
END:DAYLIGHT
BEGIN:STANDARD
TZOFFSETFROM:-0400
TZOFFSETTO:-0500
TZNAME:EST
DTSTART:20271107T060000
END:STANDARD
END:VTIMEZONE
BEGIN:VEVENT
DTSTART;TZID=America/New_York:20260422T190000
DTEND;TZID=America/New_York:20260422T203000
DTSTAMP:20260420T065524
CREATED:20240807T220320Z
LAST-MODIFIED:20240807T220320Z
UID:41358-1776884400-1776889800@kingstreetchurch.com
SUMMARY:Band of Brothers Wed PM Study
DESCRIPTION:The Band of Brothers  invites you to join their weekly Bible study. Throughout the school year\, they meet to study God’s Word and pray together. They meet in M27 from 7-8:30 pm. Click HERE for information on their current study.
URL:https://kingstreetchurch.com/event/band-of-brothers-wed-pm-study-2024-12-11-2025-04-30-2025-12-03/2026-04-22/
LOCATION:M27\, 162 E. King St.\, Chambersburg\, PA\, 17201\, United States
CATEGORIES:Church Wide,Men's Ministry
ATTACH;FMTTYPE=image/jpeg:https://kingstreetchurch.com/wp-content/uploads/2018/12/Mens-Button.jpg
END:VEVENT
BEGIN:VEVENT
DTSTART;TZID=America/New_York:20260429T190000
DTEND;TZID=America/New_York:20260429T203000
DTSTAMP:20260420T065524
CREATED:20240807T220320Z
LAST-MODIFIED:20240807T220320Z
UID:41359-1777489200-1777494600@kingstreetchurch.com
SUMMARY:Band of Brothers Wed PM Study
DESCRIPTION:The Band of Brothers  invites you to join their weekly Bible study. Throughout the school year\, they meet to study God’s Word and pray together. They meet in M27 from 7-8:30 pm. Click HERE for information on their current study.
URL:https://kingstreetchurch.com/event/band-of-brothers-wed-pm-study-2024-12-11-2025-04-30-2025-12-03/2026-04-29/
LOCATION:M27\, 162 E. King St.\, Chambersburg\, PA\, 17201\, United States
CATEGORIES:Church Wide,Men's Ministry
ATTACH;FMTTYPE=image/jpeg:https://kingstreetchurch.com/wp-content/uploads/2018/12/Mens-Button.jpg
END:VEVENT
BEGIN:VEVENT
DTSTART;TZID=America/New_York:20260506T190000
DTEND;TZID=America/New_York:20260506T203000
DTSTAMP:20260420T065524
CREATED:20240807T220320Z
LAST-MODIFIED:20240807T220320Z
UID:41360-1778094000-1778099400@kingstreetchurch.com
SUMMARY:Band of Brothers Wed PM Study
DESCRIPTION:The Band of Brothers  invites you to join their weekly Bible study. Throughout the school year\, they meet to study God’s Word and pray together. They meet in M27 from 7-8:30 pm. Click HERE for information on their current study.
URL:https://kingstreetchurch.com/event/band-of-brothers-wed-pm-study-2024-12-11-2025-04-30-2025-12-03/2026-05-06/
LOCATION:M27\, 162 E. King St.\, Chambersburg\, PA\, 17201\, United States
CATEGORIES:Church Wide,Men's Ministry
ATTACH;FMTTYPE=image/jpeg:https://kingstreetchurch.com/wp-content/uploads/2018/12/Mens-Button.jpg
END:VEVENT
BEGIN:VEVENT
DTSTART;TZID=America/New_York:20260513T190000
DTEND;TZID=America/New_York:20260513T203000
DTSTAMP:20260420T065524
CREATED:20240807T220320Z
LAST-MODIFIED:20240807T220320Z
UID:41361-1778698800-1778704200@kingstreetchurch.com
SUMMARY:Band of Brothers Wed PM Study
DESCRIPTION:The Band of Brothers  invites you to join their weekly Bible study. Throughout the school year\, they meet to study God’s Word and pray together. They meet in M27 from 7-8:30 pm. Click HERE for information on their current study.
URL:https://kingstreetchurch.com/event/band-of-brothers-wed-pm-study-2024-12-11-2025-04-30-2025-12-03/2026-05-13/
LOCATION:M27\, 162 E. King St.\, Chambersburg\, PA\, 17201\, United States
CATEGORIES:Church Wide,Men's Ministry
ATTACH;FMTTYPE=image/jpeg:https://kingstreetchurch.com/wp-content/uploads/2018/12/Mens-Button.jpg
END:VEVENT
END:VCALENDAR